BEGIN:VCALENDAR
VERSION:2.0
PRODID:-//Keystone Hook and Ladder Co. #1 - ECPv6.15.20//NONSGML v1.0//EN
CALSCALE:GREGORIAN
METHOD:PUBLISH
X-ORIGINAL-URL:https://keystonehl.com
X-WR-CALDESC:Events for Keystone Hook and Ladder Co. #1
REFRESH-INTERVAL;VALUE=DURATION:PT1H
X-Robots-Tag:noindex
X-PUBLISHED-TTL:PT1H
BEGIN:VTIMEZONE
TZID:UTC
BEGIN:STANDARD
TZOFFSETFROM:+0000
TZOFFSETTO:+0000
TZNAME:UTC
DTSTART:20230101T000000
END:STANDARD
END:VTIMEZONE
BEGIN:VEVENT
DTSTART;TZID=UTC:20241224T090000
DTEND;TZID=UTC:20241224T120000
DTSTAMP:20260422T165304
CREATED:20241210T161440Z
LAST-MODIFIED:20241211T155142Z
UID:91-1735030800-1735041600@keystonehl.com
SUMMARY:Santa Run
DESCRIPTION:Weather Permitting\, Santa will be visiting Keystone Hook and Ladder Company #1 on Christmas Eve! We will be giving him a ride around town on the fire trucks starting at 9:00 AM\, keep your eyes and ears open so you don’t miss him.
URL:https://keystonehl.com/event/santa-run/
LOCATION:Keystone Hook and Ladder Co. #1\, 25 S Railroad St\, Myerstown\, PA\, 17067\, United States
CATEGORIES:Keystone Public Events
END:VEVENT
END:VCALENDAR